BEGIN:VCALENDAR
VERSION:2.0
PRODID:-//St Michael&#039;s Catholic Church Hurstville - ECPv5.4.0//NONSGML v1.0//EN
CALSCALE:GREGORIAN
METHOD:PUBLISH
X-WR-CALNAME:St Michael&#039;s Catholic Church Hurstville
X-ORIGINAL-URL:https://www.stmichaelhurst.org.au
X-WR-CALDESC:Events for St Michael&#039;s Catholic Church Hurstville
BEGIN:VTIMEZONE
TZID:Australia/Sydney
BEGIN:STANDARD
TZOFFSETFROM:+1100
TZOFFSETTO:+1000
TZNAME:AEST
DTSTART:20210403T160000
END:STANDARD
BEGIN:DAYLIGHT
TZOFFSETFROM:+1000
TZOFFSETTO:+1100
TZNAME:AEDT
DTSTART:20211002T160000
END:DAYLIGHT
END:VTIMEZONE
BEGIN:VEVENT
DTSTART;TZID=Australia/Sydney:20210305T180000
DTEND;TZID=Australia/Sydney:20210306T180000
DTSTAMP:20210301T144738
CREATED:20210225T012127Z
LAST-MODIFIED:20210225T012127Z
UID:2502-1614967200-1615053600@www.stmichaelhurst.org.au
SUMMARY:Overnight Exposition and Adoration from Fri 5th to Sat 6th of March 2021
DESCRIPTION:Overnight Adoration Lent 2021\n210305 Overnight Adoration Timetable
URL:https://www.stmichaelhurst.org.au/event/overnight-exposition-and-adoration-from-fri-5th-to-sat-6th-of-march-2021/
LOCATION:St Michael’s Catholic Church\, 10 Croydon Road\, Hurstville\, NSW\, 2220\, Australia
END:VEVENT
BEGIN:VEVENT
DTSTART;TZID=Australia/Sydney:20210310T091500
DTEND;TZID=Australia/Sydney:20210318T103000
DTSTAMP:20210301T144738
CREATED:20210225T014330Z
LAST-MODIFIED:20210225T014330Z
UID:2509-1615367700-1616063400@www.stmichaelhurst.org.au
SUMMARY:Feast & Novena to St Joseph - 10th to 18th March 2021 during 9:15 mass
DESCRIPTION:Feast of St Joseph 2021\nNovena to St Joseph
URL:https://www.stmichaelhurst.org.au/event/feast-novena-to-st-joseph-10th-to-18th-march-2021-during-915-mass/
LOCATION:St Michael’s Catholic Church\, 10 Croydon Road\, Hurstville\, NSW\, 2220\, Australia
END:VEVENT
BEGIN:VEVENT
DTSTART;TZID=Australia/Sydney:20210320T103000
DTEND;TZID=Australia/Sydney:20210320T130000
DTSTAMP:20210301T144738
CREATED:20210225T012758Z
LAST-MODIFIED:20210225T012758Z
UID:2506-1616236200-1616245200@www.stmichaelhurst.org.au
SUMMARY:Lenten Parish Retreat w/ Fr Zachary Lewis 20th March 10:30am
DESCRIPTION:2021 Lenten Retreat with Fr Zachary Lewis
URL:https://www.stmichaelhurst.org.au/event/lenten-parish-retreat-w-fr-zachary-lewis-20th-march-1030am/
LOCATION:St Michael’s Catholic Church\, 10 Croydon Road\, Hurstville\, NSW\, 2220\, Australia
END:VEVENT
END:VCALENDAR